BEGIN:VCALENDAR
VERSION:2.0
PRODID:-//Soroksári Főplébánia - ECPv5.1.5//NONSGML v1.0//EN
CALSCALE:GREGORIAN
METHOD:PUBLISH
X-WR-CALNAME:Soroksári Főplébánia
X-ORIGINAL-URL:http://www.soroksarfoplebania.hu
X-WR-CALDESC:Events for Soroksári Főplébánia
BEGIN:VTIMEZONE
TZID:Europe/Paris
BEGIN:DAYLIGHT
TZOFFSETFROM:+0100
TZOFFSETTO:+0200
TZNAME:CEST
DTSTART:20260329T010000
END:DAYLIGHT
BEGIN:STANDARD
TZOFFSETFROM:+0200
TZOFFSETTO:+0100
TZNAME:CET
DTSTART:20261025T010000
END:STANDARD
END:VTIMEZONE
BEGIN:VEVENT
DTSTART;TZID=Europe/Paris:20260131T090000
DTEND;TZID=Europe/Paris:20260131T140000
DTSTAMP:20260425T041155
CREATED:20260120T153618Z
LAST-MODIFIED:20260120T153646Z
UID:13947-1769850000-1769868000@www.soroksarfoplebania.hu
SUMMARY:Hittan Kuckó (1.-2. osztályosoknak)
DESCRIPTION:Január 31-én\, szombaton 9:00 – 14:00-ig Hittan Kuckó lesz a Plébánián (1.-2.\nosztályos gyerekeket várunk.) \n
URL:http://www.soroksarfoplebania.hu/event/hittan-kucko-8/
END:VEVENT
END:VCALENDAR